BEGIN:VCALENDAR
VERSION:2.0
PRODID:-//pretix//12-S_pretix_installation//
BEGIN:VTIMEZONE
TZID:Europe/Berlin
BEGIN:STANDARD
DTSTART:20001029T040000
RRULE:FREQ=YEARLY;BYDAY=-1SU;BYMONTH=10
TZNAME:CET
TZOFFSETFROM:+0200
TZOFFSETTO:+0100
END:STANDARD
BEGIN:DAYLIGHT
DTSTART:20000326T030000
RRULE:FREQ=YEARLY;BYDAY=-1SU;BYMONTH=3
TZNAME:CEST
TZOFFSETFROM:+0100
TZOFFSETTO:+0200
END:DAYLIGHT
END:VTIMEZONE
BEGIN:VEVENT
UID:pretix-loev-rotc7-0@lucid-obsession.de
DTSTART;TZID=Europe/Berlin:20260404T190000
DTEND;TZID=Europe/Berlin:20260404T235900
DESCRIPTION:Tickets: https://lucid-obsession.de/rotc7/\nOrganizer: Lucid Ob
 session e.V.
DTSTAMP:20260422T015942Z
LOCATION:Hühnermanhattan\, Hordorfer Str. 4\, 06112 Halle Saale
SUMMARY:Rise of the Crypt 7
END:VEVENT
BEGIN:VEVENT
UID:pretix-loev-WHPS-0@lucid-obsession.de
DTSTART;TZID=Europe/Berlin:20260419T180000
DTEND;TZID=Europe/Berlin:20260419T215900
DESCRIPTION:Tickets: https://lucid-obsession.de/WHPS/\nOrganizer: Lucid Obs
 ession e.V.
DTSTAMP:20260422T015942Z
LOCATION:Hühnermanhattan\, Hordorfer Str. 4\, 06112 Halle Saale
SUMMARY:Wytch Hazel / Phantom Spell
END:VEVENT
BEGIN:VEVENT
UID:pretix-loev-Vastum-0@lucid-obsession.de
DTSTART;TZID=Europe/Berlin:20260424T193000
DTEND;TZID=Europe/Berlin:20260424T233000
DESCRIPTION:Tickets: https://lucid-obsession.de/Vastum/\nOrganizer: Lucid O
 bsession e.V.
DTSTAMP:20260422T015942Z
LOCATION:Hühnermanhattan\, Hordorfer Str. 4\, 06112 Halle Saale
SUMMARY:Vastum + Torture Rack
END:VEVENT
END:VCALENDAR
